BEGIN:VCALENDAR
VERSION:2.0
PRODID:-//https://komm-zu-jesus.de///NONSGML kigkonsult.se iCalcreator 2.10.15//
METHOD:PUBLISH
BEGIN:VEVENT
UID:20260422T103732CEST-6087Z4MBpr@https://komm-zu-jesus.de/
DTSTAMP:20260422T083732Z
DESCRIPTION:Gottesdienst um 10.00 UhrThema: noch offen\nUnser Vorschlag:Sel
 bst kommen und andere mitbringen!\nhttps://komm-zu-jesus.de/infos/termine/
 event/2815-predigt
DTSTART:20201101T142600Z
DTEND:20201101T162600Z
LOCATION:Bibel-Treff Rothrist (Bonigerweg 34\, 4852 Rothrist\, Schweiz)
SUMMARY:Predigt von Michael Putzi
URL:https://komm-zu-jesus.de/infos/termine/event/2815-predigt
END:VEVENT
END:VCALENDAR
